BEGIN:VCALENDAR
VERSION:2.0
PRODID:-//Pearl at Kalauao - ECPv6.15.18//NONSGML v1.0//EN
CALSCALE:GREGORIAN
METHOD:PUBLISH
X-WR-CALNAME:Pearl at Kalauao
X-ORIGINAL-URL:https://www.pearlatkalauao.com
X-WR-CALDESC:Events for Pearl at Kalauao
REFRESH-INTERVAL;VALUE=DURATION:PT1H
X-Robots-Tag:noindex
X-PUBLISHED-TTL:PT1H
BEGIN:VTIMEZONE
TZID:Pacific/Honolulu
BEGIN:STANDARD
TZOFFSETFROM:-1000
TZOFFSETTO:-1000
TZNAME:HST
DTSTART:20250101T000000
END:STANDARD
END:VTIMEZONE
BEGIN:VEVENT
DTSTART;TZID=Pacific/Honolulu:20260513T180000
DTEND;TZID=Pacific/Honolulu:20260513T210000
DTSTAMP:20260424T011745
CREATED:20260421T025459Z
LAST-MODIFIED:20260421T025459Z
UID:10000164-1778695200-1778706000@www.pearlatkalauao.com
SUMMARY:Macallan Pairing Experience
DESCRIPTION:Enjoy a one-night-only Macallan Pairing Experience on May 13th from 6–9 PM. \nIndulge in a curated 6-course dinner paired with 6 premium whisky expressions\, featuring Macallan and select single malts including Highland Park 12-Year\, Macallan Harmony Collection “Jing”\, Macallan Classic Cut 2025 Edition\, Macallan “A Night on Earth – The First Light”\, Macallan 15-Year Double Cask\, and Glenrothes 15-Year. \nDishes include ahi poke on taro crisp\, roasted butternut squash soup\, lechon pork belly\, seared duck breast\, kiawe-grilled ribeye\, and a decadent chocolate lava cake—each course thoughtfully paired to elevate every pour. \n$90 per person (all-inclusive) \n🎟️ Tickets required for entryLimited seats available—reserve early to secure your spot.
URL:https://www.pearlatkalauao.com/event/macallan-pairing-experience/
LOCATION:Pearl at Kalauao\, 98-535 Kaonohi St\, Aiea\, HI\, 96701\, United States
END:VEVENT
END:VCALENDAR